BEGIN:VCALENDAR
VERSION:2.0
PRODID:-//ChamberMaster//Event Calendar 2.0//EN
METHOD:PUBLISH
X-PUBLISHED-TTL:P3D
REFRESH-INTERVAL:P3D
CALSCALE:GREGORIAN
BEGIN:VEVENT
DTSTART:20130407T123000Z
DTEND:20130407T153000Z
X-MICROSOFT-CDO-ALLDAYEVENT:FALSE
SUMMARY:Youth Fishing Clinic
DESCRIPTION:This fishing clinic is brought to you by the University of Miami RSMAS\, the Key Biscayne Community Foundation\, the Florida Parks Service\, the University of Florida- IFAS Extension and Miami-Dade County.\n\n\n\nTo register click below\n\nhttp://fishingclinic-es2005.eventbrite.com/?rank=1
X-ALT-DESC;FMTTYPE=text/html:This fishing clinic is brought to you by the University of Miami RSMAS\, the Key Biscayne Community Foundation\, the Florida Parks Service\, the University of Florida- IFAS Extension and Miami-Dade County.<br />\n<br />\nTo register click below<br />\n<a href="http://fishingclinic-es2005.eventbrite.com/?rank=1">http://fishingclinic-es2005.eventbrite.com/?rank=1</a><br />\n<br />\n
LOCATION:Bill Baggs State Park 1200 Crandon Blvd
UID:e.330.3880
SEQUENCE:3
DTSTAMP:20260420T091739Z
URL:https://business.keybiscaynechamber.org/events/details/youth-fishing-clinic-04-07-2013-3880
END:VEVENT

END:VCALENDAR
