BEGIN:VCALENDAR
VERSION:2.0
PRODID:-//ChamberMaster//Event Calendar 2.0//EN
METHOD:PUBLISH
X-PUBLISHED-TTL:P3D
REFRESH-INTERVAL:P3D
CALSCALE:GREGORIAN
BEGIN:VEVENT
DTSTART:20251206T190000Z
DTEND:20251206T210000Z
X-MICROSOFT-CDO-ALLDAYEVENT:FALSE
SUMMARY:Your Path to Italian Citizenship
DESCRIPTION:Your Path to Italian Citizenship:  What you need to know about the new law (Law 74/2025)\n\n\n\nEnjoy an exclusive afternoon of drinks and light bites while learning about the effects of the new Italian Citizenship Law (Law 74/2025) with renowned Italian attorney Giuseppe Pinelli and Dr. Giorgio Nusiner.\n\n\n\nAttend In person or watch Live.\n\n\n\nParticipation is free of charge\, but registration is required. \n\n\n\nNOTE: Space is limited for in-person attendance. Kindly Register ASAP.
X-ALT-DESC;FMTTYPE=text/html:<br />\n<br />\n<span style="font-size:18px\;"><strong>Your Path to Italian Citizenship:&nbsp\; What you need to know about the new law (Law 74/2025)</strong><br />\n<br />\nEnjoy an exclusive afternoon of drinks and light bites while learning about the effects of the new Italian Citizenship Law (Law 74/2025) with renowned Italian attorney Giuseppe Pinelli and Dr. Giorgio Nusiner.<br />\n<br />\nAttend In person or watch Live.<br />\n<br />\nParticipation is free of charge\, but registration is required.&nbsp\;</span><br />\n<br />\n<span style="font-size:16px\;">NOTE: Space is limited for in-person attendance. Kindly Register ASAP.</span>
LOCATION:The Ocean Club
UID:e.330.23280
SEQUENCE:3
DTSTAMP:20260424T193811Z
URL:https://business.keybiscaynechamber.org/events/details/your-path-to-italian-citizenship-23280
END:VEVENT

END:VCALENDAR
