BEGIN:VCALENDAR
VERSION:2.0
PRODID:-//ChamberMaster//Event Calendar 2.0//EN
METHOD:PUBLISH
X-PUBLISHED-TTL:P3D
REFRESH-INTERVAL:P3D
CALSCALE:GREGORIAN
BEGIN:VEVENT
DTSTART:20111203T230000Z
DTEND:20111204T030000Z
X-MICROSOFT-CDO-ALLDAYEVENT:FALSE
SUMMARY:WinterFest Eve
DESCRIPTION:Come to enjoy a live band\, great food from local restaurants\, games\, rides and fun for all ages at this community event.
X-ALT-DESC;FMTTYPE=text/html:<span style="color: #ff0000"><strong><span style="font-size: 16px"><span style="font-family: comic sans ms">Come to enjoy a live band\, great food from local restaurants\, games\, rides and fun for all ages at this community event.</span></span></strong></span>
LOCATION:Village Green in the Center of Key Biscayne Key Biscayne\, FL 33149
UID:e.330.2109
SEQUENCE:3
DTSTAMP:20260421T073136Z
URL:https://business.keybiscaynechamber.org/events/details/winterfest-eve-12-03-2011-2109
END:VEVENT

END:VCALENDAR
