BEGIN:VCALENDAR
VERSION:2.0
PRODID:-//ChamberMaster//Event Calendar 2.0//EN
METHOD:PUBLISH
X-PUBLISHED-TTL:P3D
REFRESH-INTERVAL:P3D
CALSCALE:GREGORIAN
BEGIN:VEVENT
DTSTART:20121215T230000Z
DTEND:20121216T013000Z
X-MICROSOFT-CDO-ALLDAYEVENT:FALSE
SUMMARY:Winterfest Boat Parade 2012
DESCRIPTION:Decorate your boat and join in the Winterfest Boat Parade
X-ALT-DESC;FMTTYPE=text/html:<p>\n	Decorate your boat and join in the Winterfest Boat Parade</p>\n
LOCATION:
UID:e.330.3790
SEQUENCE:3
DTSTAMP:20260420T145421Z
URL:https://business.keybiscaynechamber.org/events/details/winterfest-boat-parade-2012-12-15-2012-3790
END:VEVENT

END:VCALENDAR
