BEGIN:VCALENDAR
VERSION:2.0
PRODID:-//ChamberMaster//Event Calendar 2.0//EN
METHOD:PUBLISH
X-PUBLISHED-TTL:P3D
REFRESH-INTERVAL:P3D
CALSCALE:GREGORIAN
BEGIN:VEVENT
DTSTART:20121202T210000Z
DTEND:20121203T003000Z
X-MICROSOFT-CDO-ALLDAYEVENT:FALSE
SUMMARY:Winterfest 2012
DESCRIPTION:Two days of Winterfest celebration.  Saturday Dec 1 and Dec 2.\n\nRides\, live music\, food\, photos with Santa and a skating rink
X-ALT-DESC;FMTTYPE=text/html:Two days of Winterfest celebration.&nbsp\; Saturday Dec 1 and Dec 2.<br />\nRides\, live music\, food\, photos with Santa and a skating rink
LOCATION:Village Green
UID:e.330.3789
SEQUENCE:3
DTSTAMP:20260420T132328Z
URL:https://business.keybiscaynechamber.org/events/details/winterfest-2012-12-02-2012-3789
END:VEVENT

END:VCALENDAR
