BEGIN:VCALENDAR
VERSION:2.0
PRODID:-//ChamberMaster//Event Calendar 2.0//EN
METHOD:PUBLISH
X-PUBLISHED-TTL:P3D
REFRESH-INTERVAL:P3D
CALSCALE:GREGORIAN
BEGIN:VEVENT
DTSTART:20111204T210000Z
DTEND:20111205T003000Z
X-MICROSOFT-CDO-ALLDAYEVENT:FALSE
SUMMARY:WinterFest
DESCRIPTION:Kick off the holiday season on the Village Green with community performances\, food from local resturants\, goods from local shops\, games\, rides and fun activities for families and community residents. \n\n	\n\n	Santa arrives at 4:00 pm\n\n	\n\n	Tree Lighting with Mayor Caplan at 6:00pm
X-ALT-DESC;FMTTYPE=text/html:<div>\n	<span style="font-size: 16px"><span style="color: #ff0000"><strong>Kick off the holiday season on the Village Green with community performances\, food from local resturants\, goods from local shops\, games\, rides and fun activities for families and community residents.&nbsp\;<br />\n	<br />\n	Santa arrives at 4:00 pm<br />\n	<br />\n	Tree Lighting with Mayor Caplan at 6:00pm</strong></span></span><br />\n	<br />\n	<br />\n	<br />\n	<br />\n	<br />\n	&nbsp\;</div>\n
LOCATION:Village Green (in the Center of the Village) Key Biscayne\, FL 33149
UID:e.330.2110
SEQUENCE:3
DTSTAMP:20260421T073035Z
URL:https://business.keybiscaynechamber.org/events/details/winterfest-12-04-2011-2110
END:VEVENT

END:VCALENDAR
