BEGIN:VCALENDAR
VERSION:2.0
PRODID:-//ChamberMaster//Event Calendar 2.0//EN
METHOD:PUBLISH
X-PUBLISHED-TTL:P3D
REFRESH-INTERVAL:P3D
CALSCALE:GREGORIAN
BEGIN:VEVENT
DTSTART:20120302T220000Z
DTEND:20120303T010000Z
X-MICROSOFT-CDO-ALLDAYEVENT:FALSE
SUMMARY:Wine & Vodka Tasting @ Stefano's Wine & Liquor
DESCRIPTION:Argentinian Wine Tasting:  Cuvelier Los Andes\, Blend- 92 pts Parker\n\n\n\nItalian Sparkling Wine-  Malvasia\n\n\n\nVodka Tasting-- Voli Lyte Vodka
X-ALT-DESC;FMTTYPE=text/html:Argentinian Wine Tasting:&nbsp\; Cuvelier Los Andes\, Blend- 92 pts Parker<br />\n<br />\nItalian Sparkling Wine-&nbsp\; Malvasia<br />\n<br />\nVodka Tasting-- Voli Lyte Vodka
LOCATION:Stefanos Wine & Liquor
UID:e.330.3599
SEQUENCE:3
DTSTAMP:20260421T032209Z
URL:https://business.keybiscaynechamber.org/events/details/wine-vodka-tasting-stefano-s-wine-liquor-03-02-2012-3599
END:VEVENT

END:VCALENDAR
