BEGIN:VCALENDAR
VERSION:2.0
PRODID:-//ChamberMaster//Event Calendar 2.0//EN
METHOD:PUBLISH
X-PUBLISHED-TTL:P3D
REFRESH-INTERVAL:P3D
CALSCALE:GREGORIAN
BEGIN:VEVENT
DTSTART:20120825T210000Z
DTEND:20120826T000000Z
X-MICROSOFT-CDO-ALLDAYEVENT:FALSE
SUMMARY:WINE TASTING AT STEFANO'S
DESCRIPTION:Argentinian Wine Tasting:\n\n\n\nUva Malbec Reserve
X-ALT-DESC;FMTTYPE=text/html:<br />\n<big>Argentinian Wine Tasting:<br />\n<br />\nUva Malbec Reserve</big><br />\n
LOCATION:STEFANO'S WINE & LIQUOR
UID:e.330.3760
SEQUENCE:3
DTSTAMP:20260420T210851Z
URL:https://business.keybiscaynechamber.org/events/details/wine-tasting-at-stefano-s-08-25-2012-3760
END:VEVENT

END:VCALENDAR
