BEGIN:VCALENDAR
VERSION:2.0
PRODID:-//ChamberMaster//Event Calendar 2.0//EN
METHOD:PUBLISH
X-PUBLISHED-TTL:P3D
REFRESH-INTERVAL:P3D
CALSCALE:GREGORIAN
BEGIN:VEVENT
DTSTART:20120616T210000Z
DTEND:20120617T000000Z
X-MICROSOFT-CDO-ALLDAYEVENT:FALSE
SUMMARY:Wine Tasting at Stefano's
DESCRIPTION:Saturday: June 16th\n\n\n\nFrench Wine Tasting: Cotes du Rhone\, Burgundy & Loire Valley Selections\n\n\n\nScotch Tasting- Buchanan's Scotch Whisky
X-ALT-DESC;FMTTYPE=text/html:<br />\nSaturday: June 16th<br />\n<br />\nFrench Wine Tasting: Cotes du Rhone\, Burgundy &amp\; Loire Valley Selections<br />\n<br />\nScotch Tasting- Buchanan&rsquo\;s Scotch Whisky<br />\n
LOCATION:Stefano's at the Galleria Mall
UID:e.330.3733
SEQUENCE:3
DTSTAMP:20260420T234936Z
URL:https://business.keybiscaynechamber.org/events/details/wine-tasting-at-stefano-s-06-16-2012-3733
END:VEVENT

END:VCALENDAR
