BEGIN:VCALENDAR
VERSION:2.0
PRODID:-//ChamberMaster//Event Calendar 2.0//EN
METHOD:PUBLISH
X-PUBLISHED-TTL:P3D
REFRESH-INTERVAL:P3D
CALSCALE:GREGORIAN
BEGIN:VEVENT
DTSTART:20120615T210000Z
DTEND:20120616T000000Z
X-MICROSOFT-CDO-ALLDAYEVENT:FALSE
SUMMARY:Wine Tasting at Stefano's
DESCRIPTION:Friday: June 15th\n\n\n\nSpanish Wine Tasting- Lagar de Bouza\, Albarino\, fresh whites from Galicia\n\n\n\nRon Atlantico from the Dominican Republic
X-ALT-DESC;FMTTYPE=text/html:Friday: June 15th<br />\n<br />\nSpanish Wine Tasting- Lagar de Bouza\, Albarino\, fresh whites from Galicia<br />\n<br />\nRon Atlantico from the Dominican Republic<br />\n
LOCATION:Stefanos at the Galleria Mall
UID:e.330.3732
SEQUENCE:3
DTSTAMP:20260420T222541Z
URL:https://business.keybiscaynechamber.org/events/details/wine-tasting-at-stefano-s-06-15-2012-3732
END:VEVENT

END:VCALENDAR
