BEGIN:VCALENDAR
VERSION:2.0
PRODID:-//ChamberMaster//Event Calendar 2.0//EN
METHOD:PUBLISH
X-PUBLISHED-TTL:P3D
REFRESH-INTERVAL:P3D
CALSCALE:GREGORIAN
BEGIN:VEVENT
DTSTART:20120824T210000Z
DTEND:20120825T000000Z
X-MICROSOFT-CDO-ALLDAYEVENT:FALSE
SUMMARY:WINE TASTING
DESCRIPTION:Friday: August 24th\n\n\n\nSpanish Wine Tasting: Torre Pingon\, Ribera del Duero\n\n\n\n& Ron Atlantico Tasting
X-ALT-DESC;FMTTYPE=text/html:<big>Friday: August 24th<br />\n<br />\nSpanish Wine Tasting: Torre Pingon\, Ribera del Duero<br />\n<br />\n&amp\; Ron Atlantico Tasting</big><br />\n
LOCATION:STEFANO'S WINE & LIQUOR
UID:e.330.3759
SEQUENCE:3
DTSTAMP:20260420T192522Z
URL:https://business.keybiscaynechamber.org/events/details/wine-tasting-08-24-2012-3759
END:VEVENT

END:VCALENDAR
