BEGIN:VCALENDAR
VERSION:2.0
PRODID:-//ChamberMaster//Event Calendar 2.0//EN
METHOD:PUBLISH
X-PUBLISHED-TTL:P3D
REFRESH-INTERVAL:P3D
CALSCALE:GREGORIAN
BEGIN:VEVENT
DTSTART:20131205T220000Z
DTEND:20131206T000000Z
X-MICROSOFT-CDO-ALLDAYEVENT:FALSE
SUMMARY:Wine & Beer Tasting at Archie's
DESCRIPTION:Come and join us in our Wine & Beer Tasting!!
X-ALT-DESC;FMTTYPE=text/html:Come and join us in our Wine &amp\; Beer Tasting!!<br />\n
LOCATION:600 Crandon Blvd. Suite 130
UID:e.330.4031
SEQUENCE:3
DTSTAMP:20260419T204112Z
URL:https://business.keybiscaynechamber.org/events/details/wine-beer-tasting-at-archie-s-12-05-2013-4031
END:VEVENT

END:VCALENDAR
