BEGIN:VCALENDAR
VERSION:2.0
PRODID:-//ChamberMaster//Event Calendar 2.0//EN
METHOD:PUBLISH
X-PUBLISHED-TTL:P3D
REFRESH-INTERVAL:P3D
CALSCALE:GREGORIAN
BEGIN:VEVENT
DTSTART:20120531T230000Z
DTEND:20120601T020000Z
X-MICROSOFT-CDO-ALLDAYEVENT:FALSE
SUMMARY:Whitefly & Hatracking Workshop
DESCRIPTION:All you have ever wanted to know on Whitefly background and management.\n\n\n\nAlso will include:\n\nHatracking & tree pruning\n\nVillage Right of Way & Code Enforcement Procedures\n\nQuestion and Answer session
X-ALT-DESC;FMTTYPE=text/html:All you have ever wanted to know on Whitefly background and management.<br />\n<br />\nAlso will include:<br />\nHatracking &amp\; tree pruning<br />\nVillage Right of Way &amp\; Code Enforcement Procedures<br />\nQuestion and Answer session
LOCATION:Community Center Island Room (2nd Floor) 10 Village Green Way
UID:e.330.3707
SEQUENCE:3
DTSTAMP:20260421T001334Z
URL:https://business.keybiscaynechamber.org/events/details/whitefly-hatracking-workshop-05-31-2012-3707
END:VEVENT

END:VCALENDAR
