BEGIN:VCALENDAR
VERSION:2.0
PRODID:-//ChamberMaster//Event Calendar 2.0//EN
METHOD:PUBLISH
X-PUBLISHED-TTL:P3D
REFRESH-INTERVAL:P3D
CALSCALE:GREGORIAN
BEGIN:VEVENT
DTSTART:20120519T140000Z
DTEND:20120519T150000Z
X-MICROSOFT-CDO-ALLDAYEVENT:FALSE
SUMMARY:What's the Best Method to Learn a Language?
DESCRIPTION:What's the Best Method to Learn a Language? Presentation of various methods and approaches to learn a language\, brief comments about learning styles\, and questions at the end.
X-ALT-DESC;FMTTYPE=text/html:<strong>What&#39\;s the Best Method to Learn a Language?</strong> Presentation of various methods and approaches to learn a language\, brief comments about learning styles\, and questions at the end. 
LOCATION:Key Languages 800 Crandon Blvd.\, Suite 101 Key Biscayne\, FL 33149
UID:e.330.3703
SEQUENCE:3
DTSTAMP:20260421T001423Z
URL:https://business.keybiscaynechamber.org/events/details/what-s-the-best-method-to-learn-a-language-05-19-2012-3703
END:VEVENT

END:VCALENDAR
