BEGIN:VCALENDAR
VERSION:2.0
PRODID:-//ChamberMaster//Event Calendar 2.0//EN
METHOD:PUBLISH
X-PUBLISHED-TTL:P3D
REFRESH-INTERVAL:P3D
CALSCALE:GREGORIAN
BEGIN:VEVENT
DTSTART:20211019T160000Z
DTEND:20211019T170000Z
X-MICROSOFT-CDO-ALLDAYEVENT:FALSE
SUMMARY:Webinar: ¿Por Qué Se Necesita Crear Una Estrategia Digital?
DESCRIPTION:Aprende sobre creando una estrategia digital incre ble con la CEO de IQ Digital\, Rosalba Zepeda. Registra ahora.
X-ALT-DESC;FMTTYPE=text/html:<br />\n<br />\nAprende sobre creando una estrategia digital incre&iacute\;ble con la CEO de IQ Digital\, Rosalba Zepeda. <a href="https://miamidade.zoom.us/webinar/register/WN_ykqmLnQCQce_FAGksLogRg">Registra ahora</a>.
LOCATION:Webinar en Zoom.
UID:e.330.21310
SEQUENCE:3
DTSTAMP:20260420T083722Z
URL:https://business.keybiscaynechamber.org/events/details/webinar-por-qu&#233;-se-necesita-crear-una-estrategia-digital-21310
END:VEVENT

END:VCALENDAR
