BEGIN:VCALENDAR
VERSION:2.0
PRODID:-//ChamberMaster//Event Calendar 2.0//EN
METHOD:PUBLISH
X-PUBLISHED-TTL:P3D
REFRESH-INTERVAL:P3D
CALSCALE:GREGORIAN
BEGIN:VEVENT
DTSTART:20250626T160000Z
DTEND:20250626T180000Z
X-MICROSOFT-CDO-ALLDAYEVENT:FALSE
SUMMARY:Waves of Weeds: A Sargassum Story
DESCRIPTION:CITIZEN SCIENTIST PROJECT'S LUNCH & LEARN presents Waves of Weeds: A Sargassum Story\n\n\n\nJoin friends and neighbors for a presentation at the Key Biscayne Community Center Presented by Rumya Sundaram Thursday\, June 26 @ Noon Key Biscayne Community Center Island Room. \n\n\n\nCatered By Milanezza\n\n\n\nKBCC Members Free / KBCC Non-Members $5\n\n\n\nRSVP Required 305.365.8900 or Visit KBCC Front Desk
X-ALT-DESC;FMTTYPE=text/html:<br />\n<br />\nCITIZEN SCIENTIST PROJECT&#39\;S LUNCH &amp\; LEARN presents Waves of Weeds: A Sargassum Story<br />\n<br />\nJoin friends and neighbors for a presentation at the Key Biscayne Community Center Presented by Rumya Sundaram Thursday\, June 26 @ Noon Key Biscayne Community Center Island Room.&nbsp\;<br />\n<br />\nCatered By Milanezza<br />\n<br />\nKBCC Members Free / KBCC Non-Members $5<br />\n<br />\nRSVP Required 305.365.8900 or Visit KBCC Front Desk
LOCATION:Key Biscayne Community Center - Island Room
UID:e.330.23108
SEQUENCE:3
DTSTAMP:20260425T032922Z
URL:https://business.keybiscaynechamber.org/events/details/waves-of-weeds-a-sargassum-story-23108
END:VEVENT

END:VCALENDAR
