BEGIN:VCALENDAR
VERSION:2.0
PRODID:-//ChamberMaster//Event Calendar 2.0//EN
METHOD:PUBLISH
X-PUBLISHED-TTL:P3D
REFRESH-INTERVAL:P3D
CALSCALE:GREGORIAN
BEGIN:VEVENT
DTSTART:20120414T140000Z
DTEND:20120414T170000Z
X-MICROSOFT-CDO-ALLDAYEVENT:FALSE
SUMMARY:Water Sports Swap Meet at Sailboards Miami
DESCRIPTION:Clean out the garage and bring down any water sports equipment you would like to sell!  Event is open to the public.  Great deals to be had!  Please park east of our sailing site\; keep the roads clear\; and avoid stepping on sea grasses.
X-ALT-DESC;FMTTYPE=text/html:Clean out the garage and bring down any water sports equipment you would like to sell!&nbsp\; Event is open to the public.&nbsp\; Great deals to be had!&nbsp\; Please park east of our sailing site\; keep the roads clear\; and avoid stepping on sea grasses.
LOCATION:Mile Marker 6.5 on Rickenbacker Causeway. Travel 3/4 of a mile after Rickenbacker Toll\, stay right of the tall bridge and pull into the parking lot. Circle around and park after our Water Sports Concession truck.
UID:e.330.3490
SEQUENCE:3
DTSTAMP:20260421T020709Z
URL:https://business.keybiscaynechamber.org/events/details/water-sports-swap-meet-at-sailboards-miami-04-14-2012-3490
END:VEVENT

END:VCALENDAR
