BEGIN:VCALENDAR
VERSION:2.0
PRODID:-//ChamberMaster//Event Calendar 2.0//EN
METHOD:PUBLISH
X-PUBLISHED-TTL:P3D
REFRESH-INTERVAL:P3D
CALSCALE:GREGORIAN
BEGIN:VEVENT
DTSTART:20140429T220000Z
DTEND:20140429T230000Z
X-MICROSOFT-CDO-ALLDAYEVENT:FALSE
SUMMARY:Voters Educational Forum
DESCRIPTION:Medical Marijuana is on the Ballot in November\, do you know both sides of the issues?
X-ALT-DESC;FMTTYPE=text/html:<span style="font-size: 11px\;"><span style="font-weight: bold\; language: en-US\;"><span style="font-family: calibri\;">Medical Marijuana is on the Ballot in November\, do you know both sides of the issues?</span></span></span><br />\n&nbsp\;
LOCATION:Guest Speakers: Margaret Sotham\, Director\, South Miami Drug-Free Coalition & Chair of Statewide Marijuana Task Force Ben Polara\, Director of United for Care\, People United for Medical Marijuana
UID:e.330.4092
SEQUENCE:3
DTSTAMP:20260419T145603Z
URL:https://business.keybiscaynechamber.org/events/details/voters-educational-forum-04-29-2014-4092
END:VEVENT

END:VCALENDAR
