BEGIN:VCALENDAR
VERSION:2.0
PRODID:-//ChamberMaster//Event Calendar 2.0//EN
METHOD:PUBLISH
X-PUBLISHED-TTL:P3D
REFRESH-INTERVAL:P3D
CALSCALE:GREGORIAN
BEGIN:VEVENT
DTSTART:20120915T121500Z
DTEND:20120915T143000Z
X-MICROSOFT-CDO-ALLDAYEVENT:FALSE
SUMMARY:"Viz-Kayak" Mangrove Clean-Up
DESCRIPTION:This is a great event!  Combine nature\, exercise\, beauty and good deeds.  We kayak over to Vizcaya where we remove debris from the mangroves.  Previous kayak experience preferred.  Community service hours for age 15 and above.
X-ALT-DESC;FMTTYPE=text/html:<h5>\n	<span style="color:#0000ff\;"><span style="font-size: 14px\;"><var><span style="background-color:#ffff00\;">This is a great event!&nbsp\; Combine nature\, exercise\, beauty and good deeds.&nbsp\; We kayak over to Vizcaya where we remove debris from the mangroves.&nbsp\; Previous kayak experience preferred.&nbsp\; Community service hours for age 15 and above.</span></var></span></span></h5>\n
LOCATION:Sailboards Miami Water Sports Mile Marker 6.5
UID:e.330.3743
SEQUENCE:3
DTSTAMP:20260420T174408Z
URL:https://business.keybiscaynechamber.org/events/details/viz-kayak-mangrove-clean-up-09-15-2012-3743
END:VEVENT

END:VCALENDAR
