BEGIN:VCALENDAR
VERSION:2.0
PRODID:-//ChamberMaster//Event Calendar 2.0//EN
METHOD:PUBLISH
X-PUBLISHED-TTL:P3D
REFRESH-INTERVAL:P3D
CALSCALE:GREGORIAN
BEGIN:VEVENT
DTSTART:20140330T130000Z
DTEND:20140330T150000Z
X-MICROSOFT-CDO-ALLDAYEVENT:FALSE
SUMMARY:Viz-Kayak Guided Tour
DESCRIPTION:Viz-Kayak Guided Kayak Tour\n\n\n\nEnjoy viewing Vizcaya as you kayak mangroves and Biscayne Bay. Former Vizcaya guide\, Christopher Fulton\,\n\nwill speak about Deering sandbars\, the "Secret Canal\," and "La Hermita" shrine. A portion of the proceeds to be\n\ndonated to Vizcaya Museum and Gardens.
X-ALT-DESC;FMTTYPE=text/html:<span class="userContent"><span style="font-size: 16px\;"><span style="color: rgb(0\, 0\, 205)\;"><strong>Viz-Kayak Guided Kayak Tour</strong></span></span><br />\n<br />\nEnjoy viewing Vizcaya as you kayak mangroves and Biscayne Bay. Former Vizcaya guide\, Christopher Fulton\,<br />\nwill speak about Deering sandbars\, the &ldquo\;Secret Canal\,&rdquo\; and &ldquo\;La Hermita&rdquo\; shrine. <span class="text_exposed_show">A portion of the proceeds to be<br />\ndonated to Vizcaya Museum and Gardens. </span></span>
LOCATION:Sailboards Miami Mile Marker 6.5 Rickenbacker Causeway
UID:e.330.4068
SEQUENCE:3
DTSTAMP:20260419T161920Z
URL:https://business.keybiscaynechamber.org/events/details/viz-kayak-guided-tour-03-30-2014-4068
END:VEVENT

END:VCALENDAR
