BEGIN:VCALENDAR
VERSION:2.0
PRODID:-//ChamberMaster//Event Calendar 2.0//EN
METHOD:PUBLISH
X-PUBLISHED-TTL:P3D
REFRESH-INTERVAL:P3D
CALSCALE:GREGORIAN
BEGIN:VEVENT
DTSTART:20211031T000000Z
DTEND:20211031T035500Z
X-MICROSOFT-CDO-ALLDAYEVENT:FALSE
SUMMARY:Vinya Halloween Party
DESCRIPTION:Vinya is hosting its Halloween party with witches\, wizards\, and wine! The party will also include a DJ and Spooky Cocktails.\n\n\n\n*Come dressed for Halloween and get a free glass of wine or spooky cocktail*
X-ALT-DESC;FMTTYPE=text/html:<br />\n<br />\nVinya is hosting its Halloween party with witches\, wizards\, and wine! The party will also include a DJ and Spooky Cocktails.<br />\n<br />\n*Come dressed for Halloween and get a free glass of wine or spooky cocktail*
LOCATION:Vinya Wine & Market
UID:e.330.21329
SEQUENCE:3
DTSTAMP:20260420T083207Z
URL:https://business.keybiscaynechamber.org/events/details/vinya-halloween-party-21329
END:VEVENT

END:VCALENDAR
