BEGIN:VCALENDAR
VERSION:2.0
PRODID:-//ChamberMaster//Event Calendar 2.0//EN
METHOD:PUBLISH
X-PUBLISHED-TTL:P3D
REFRESH-INTERVAL:P3D
CALSCALE:GREGORIAN
BEGIN:VEVENT
DTSTART:20240611T160000Z
DTEND:20240611T160000Z
X-MICROSOFT-CDO-ALLDAYEVENT:FALSE
SUMMARY:Village Council Meeting
DESCRIPTION:Please click on the links below for the Tuesday\, June 12\, 2024 Village Council Meeting Agenda and viewing instructions.\n\n	Council Meeting Agenda\n	Viewing Instructions
X-ALT-DESC;FMTTYPE=text/html:<br />\n<br />\n<span style="font-size:18px\;">Please click on the links below for the Tuesday\, June 12\, 2024 Village Council Meeting Agenda and viewing instructions.</span>\n<ul>\n	<li><span style="font-size:18px\;"><a href="https://d3n9y02raazwpg.cloudfront.net/keybiscayne/a622d5d5-0833-4157-aba6-1bcf3d34f22f-4206a9c6-5dc6-45bb-9df3-1259d90bcd76-1717709134.pdf">Council Meeting Agenda</a></span></li>\n	<li><span style="font-size:18px\;"><a href="https://keybiscayne.fl.gov/your_government/meeting_instructions.php">Viewing Instructions</a></span></li>\n</ul>\n
LOCATION:Village Council Chamber (rear of Fire Station)
UID:e.330.22603
SEQUENCE:3
DTSTAMP:20260420T143411Z
URL:https://business.keybiscaynechamber.org/events/details/village-council-meeting-06-11-2024-22603
END:VEVENT

END:VCALENDAR
