BEGIN:VCALENDAR
VERSION:2.0
PRODID:-//ChamberMaster//Event Calendar 2.0//EN
METHOD:PUBLISH
X-PUBLISHED-TTL:P3D
REFRESH-INTERVAL:P3D
CALSCALE:GREGORIAN
BEGIN:VEVENT
DTSTART:20110730T020000Z
DTEND:20110730T060000Z
X-MICROSOFT-CDO-ALLDAYEVENT:FALSE
SUMMARY:Vic Kingsley Live at The Ibis Lounge
DESCRIPTION:Forward Motion Recording Artist\, Vic Kingsley performing a blend of blues\, pop and rock\, as well as material from his latest release "Turn on the Dark"
X-ALT-DESC;FMTTYPE=text/html:Forward Motion Recording Artist\, Vic Kingsley performing a blend of blues\, pop and rock\, as well as material from his latest release &quot\;Turn on the Dark&quot\;
LOCATION:The Ibis Lounge 200 Crandon Blvd #101 Key Biscayne\, Fl 33149
UID:e.330.3453
SEQUENCE:3
DTSTAMP:20260421T145627Z
URL:https://business.keybiscaynechamber.org/events/details/vic-kingsley-live-at-the-ibis-lounge-07-29-2011-3453
END:VEVENT

END:VCALENDAR
