BEGIN:VCALENDAR
VERSION:2.0
PRODID:-//ChamberMaster//Event Calendar 2.0//EN
METHOD:PUBLISH
X-PUBLISHED-TTL:P3D
REFRESH-INTERVAL:P3D
CALSCALE:GREGORIAN
BEGIN:VEVENT
DTSTART:20110312T200000Z
DTEND:20110312T230000Z
X-MICROSOFT-CDO-ALLDAYEVENT:FALSE
SUMMARY:VeroYoga Master Class
DESCRIPTION:VeroYoga is a powerful vinyasa-style system designed to invigorate\, purify\, and balance the physical body\, energy centers\, mind\, intellect emotions and spirit. \n\nIn this workshop\, you will be encouraged to move beyond physical and psychological barriers as we go through  asana-pranayama-relaxation and meditation practice. We will travel with the breath through the different chakra centers to activate the release of stored energy\, leading to a calm sense of freedom and wellbeing.\n\nBe prepared to sweat and explore deep within!\n\nStudents will be invited to move at their own level with the given modifications. Some previous vinyasa-style yoga experience is required to participate in this workshop.\n\n \n\nAbout Veronica Vidal\n\nVeronica Vidal learned yoga as a child from her own mother\, who was\, also\, a yoga instructor. Later\, she studied at the Bihar School of Yoga (India) and other Ashrams. She has been under the personal guidance of Swami Brahmavidyananda Saraswati for over twenty years. Foremost\, she is a devoted disciple of Sri Dharma Mittra and has been mentor/advisor teacher of his TT Programs in NY City. Veronica is recognized by the Yoga Alliance as ERYT 500 (Experienced Registered Yoga Teacher). She holds several Yoga degrees and certifications as well as a degree in Industrial Chemistry\, with specialties in Nutrition\, Psychology\, and Education. Following the path of a true Yogi\, she continues studying and training to deepen her practice. \n\nVeronica has taught in Japan\, South and Central America and across North America\, Puerto Rico and the Bahamas. She is the Founder-Director of VeroYoga & Co in Key Biscayne\, FL\, as well as the Director of Ubuntu Yoga Studio in Napa Valley\, CA.
X-ALT-DESC;FMTTYPE=text/html:<span style="font-size: 12px"><strong><span style="color: purple"><span style="font-family: arial\, sans-serif">VeroYoga </span></span></strong><span style="font-family: arial\, sans-serif">is a powerful vinyasa-style system designed to invigorate\, purify\, and balance the physical body\, energy centers\, mind\, intellect emotions and spirit. </span><br />\n<span style="font-family: arial\, sans-serif">In this workshop\, you will be encouraged to move beyond physical and psychological barriers as we go through &nbsp\;asana-pranayama-relaxation and meditation practice. We will travel with the breath through the different chakra centers to activate the release of stored energy\, leading to a calm sense of freedom and wellbeing.</span><br />\n<span style="font-family: arial\, sans-serif">Be prepared to sweat and explore deep within!</span><br />\n<span style="font-family: arial\, sans-serif">Students will be invited to move at their own level with the given modifications. Some previous vinyasa-style yoga experience is required to participate in this workshop.</span><br />\n&nbsp\;<br />\n<strong><span style="color: purple"><span style="font-family: arial\, sans-serif">About Veronica Vidal</span></span></strong><br />\n<span style="font-family: arial\, sans-serif">Veronica Vidal learned yoga as a child from her own mother\, who was\, also\, a yoga instructor. Later\, she studied at the Bihar School of Yoga (India) and other Ashrams. She has been under the personal guidance of Swami Brahmavidyananda Saraswati for over twenty years. Foremost\, she is a devoted disciple of Sri Dharma Mittra and has been mentor/advisor teacher of his TT Programs in NY City. Veronica is recognized by the Yoga Alliance as ERYT 500 (Experienced Registered Yoga Teacher). She holds several Yoga degrees and certifications as well as a degree in Industrial Chemistry\, with specialties in Nutrition\, Psychology\, and Education. Following the path of a true Yogi\, she continues studying and training to deepen her practice. </span><br />\n<span style="font-family: arial\, sans-serif">Veronica has taught in Japan\, South and Central America and across North America\, Puerto Rico and the Bahamas. She is the Founder-Director of VeroYoga &amp\; Co in Key Biscayne\, FL\, as well as the Director of Ubuntu Yoga Studio in Napa Valley\, CA.</span></span><br />\n
LOCATION:SKANDA YOGA STUDIO\, 1800 SW 1st AVE Miami\, FL
UID:e.330.3083
SEQUENCE:3
DTSTAMP:20260421T201718Z
URL:https://business.keybiscaynechamber.org/events/details/veroyoga-master-class-03-12-2011-3083
END:VEVENT

END:VCALENDAR
