BEGIN:VCALENDAR
VERSION:2.0
PRODID:-//ChamberMaster//Event Calendar 2.0//EN
METHOD:PUBLISH
X-PUBLISHED-TTL:P3D
REFRESH-INTERVAL:P3D
CALSCALE:GREGORIAN
BEGIN:VEVENT
DTSTART:20110215T010000Z
DTEND:20110215T045500Z
X-MICROSOFT-CDO-ALLDAYEVENT:FALSE
SUMMARY:Valentine's Day at The Ibis Lounge
DESCRIPTION:all after-dinner drinks 50% off\n\n\n\nlive entertainment\n\n\n\nno cover\, free parking
X-ALT-DESC;FMTTYPE=text/html:all after-dinner drinks 50% off\n<br>\n<br>live entertainment\n<br>\n<br>no cover\, free parking
LOCATION:The Ibis Lounge 200 Crandon Blvd #101 Key Biscayne\, Fl 33149
UID:e.330.3076
SEQUENCE:3
DTSTAMP:20260421T214004Z
URL:https://business.keybiscaynechamber.org/events/details/valentine-s-day-at-the-ibis-lounge-02-14-2011-3076
END:VEVENT

END:VCALENDAR
