BEGIN:VCALENDAR
VERSION:2.0
PRODID:-//ChamberMaster//Event Calendar 2.0//EN
METHOD:PUBLISH
X-PUBLISHED-TTL:P3D
REFRESH-INTERVAL:P3D
CALSCALE:GREGORIAN
BEGIN:VEVENT
DTSTART:20130216T000000Z
DTEND:20130216T040000Z
X-MICROSOFT-CDO-ALLDAYEVENT:FALSE
SUMMARY:Valentine Bossa Nova Concert -CXL due to bad weather
DESCRIPTION:Free concert on the lawn in front of the Community Center this Friday for Valentines's Day.\n\n\n\nLive music by Jorge Alfano's Brazilian Quintet featuring singer
X-ALT-DESC;FMTTYPE=text/html:Free concert on the lawn in front of the Community Center this Friday for Valentines&#39\;s Day.<br />\n<br />\nLive music by Jorge Alfano&#39\;s Brazilian Quintet featuring singer 
LOCATION:
UID:e.330.3860
SEQUENCE:3
DTSTAMP:20260420T104806Z
URL:https://business.keybiscaynechamber.org/events/details/valentine-bossa-nova-concert-cxl-due-to-bad-weather-02-15-2013-3860
END:VEVENT

END:VCALENDAR
