BEGIN:VCALENDAR
VERSION:2.0
PRODID:-//ChamberMaster//Event Calendar 2.0//EN
METHOD:PUBLISH
X-PUBLISHED-TTL:P3D
REFRESH-INTERVAL:P3D
CALSCALE:GREGORIAN
BEGIN:VEVENT
DTSTART:20220127T140000Z
DTEND:20220127T220000Z
X-MICROSOFT-CDO-ALLDAYEVENT:FALSE
SUMMARY:Vaccination Pop-Up
DESCRIPTION:Senior vaccines and booster doses will be available all day but the Village has reserved the first hour of each event (from 9 AM to 10 AM) exclusively for seniors (65+).\n\n\n\nVaccines for individuals who are 12 years old and up\, including boosters\, will be administered from 9:00 AM to 6:00 PM. This will be a walk-up site\; no appointment is needed. It is recommended you come before 2 PM\, if possible.\n\n\n\nVaccines for children ages 5 - 11 will be administered from 2:00 PM to 5:30 PM.\n\n\n\nAdditionally\, parents or guardians must complete the consent form (found here). Frequently asked questions:   This site is open to the general public\; it is not limited to Key Biscayne residents.   After receiving the vaccine\, patients will be asked to stay under observation for 15 minutes.\n\n\n\n*Please note that the appointments are to ensure the Department of Health has adequate staffing to administer vaccines\; appointments do not guarantee the exact time you will be seen by a nurse.
X-ALT-DESC;FMTTYPE=text/html:<br />\n<br />\nSenior vaccines and booster doses will be available all day but the Village has reserved the first hour of each event (from 9 AM to 10 AM) exclusively for seniors (65+).<br />\n<br />\nVaccines for individuals who are 12 years old and up\, including boosters\, will be administered from 9:00 AM to 6:00 PM. This will be a walk-up site\; no appointment is needed. It is recommended you come before 2 PM\, if possible.<br />\n<br />\nVaccines for children ages 5 - 11 will be administered from 2:00 PM to 5:30 PM.<br />\n<br />\nAdditionally\, parents or guardians must complete the consent form (found here). Frequently asked questions: &middot\; This site is open to the general public\; it is not limited to Key Biscayne residents. &middot\; After receiving the vaccine\, patients will be asked to stay under observation for 15 minutes.<br />\n<br />\n*Please note that the appointments are to ensure the Department of Health has adequate staffing to administer vaccines\; appointments do not guarantee the exact time you will be seen by a nurse.
LOCATION:Key Biscayne Community Center
UID:e.330.21596
SEQUENCE:3
DTSTAMP:20260420T122422Z
URL:https://business.keybiscaynechamber.org/events/details/vaccination-pop-up-21596
END:VEVENT

END:VCALENDAR
