BEGIN:VCALENDAR
VERSION:2.0
PRODID:-//ChamberMaster//Event Calendar 2.0//EN
METHOD:PUBLISH
X-PUBLISHED-TTL:P3D
REFRESH-INTERVAL:P3D
CALSCALE:GREGORIAN
BEGIN:VEVENT
DTSTART:20120215T223000Z
DTEND:20120216T010000Z
X-MICROSOFT-CDO-ALLDAYEVENT:FALSE
SUMMARY:TROPICAL FISH TALES by Dr. Jerry Ault\, Professor UM Rosenstiel School
DESCRIPTION:Dr. Jerry Ault provides an "in depth" look at the spectacular range of behaviors and adaptations marine fish have made to enhance their chances of success in support of the "Fishing Capital of the World". As chief scientific advisor for the Bonefish Tarpon Trust he will discuss how Atlantic tarpon\, a multibillion-dollar sportfishery\, migrate by following the 26  C isotherm. And how pink shrimp larvae 'ride' ocean currents\; while black mullet 'runs' are triggered by passing cold fronts. He will also uncover the mechanisms behind the yearly arrival of large pelagic fishes like billfish\, tunas and dolphinfish on Florida's coasts\, and the sex-changing adaptive behaviors of tropical groupers and snappers.
X-ALT-DESC;FMTTYPE=text/html:<span style="background: #fafafa"><span style="font-size: 10pt"><span style="color: black"><span style="font-family: lucida sans unicode\, sans-serif"><span style="font-family: lucida sans unicode">Dr. Jerry Ault provides an &ldquo\;in depth&rdquo\; look at the spectacular range of behaviors and adaptations marine fish have made to enhance their chances of success in support of the &ldquo\;Fishing Capital of the World&rdquo\;. As chief scientific advisor for the Bonefish Tarpon Trust he will discuss how Atlantic tarpon\, a multibillion-dollar sportfishery\, migrate by following the 26&deg\; C isotherm. And how pink shrimp larvae &lsquo\;ride&rsquo\; ocean currents\; while black mullet &lsquo\;runs&rsquo\; are triggered by passing cold fronts. He will also uncover the mechanisms behind the yearly arrival of large pelagic fishes like billfish\, tunas and dolphinfish on Florida&rsquo\;s coasts\, and the sex-changing adaptive behaviors of tropical groupers and snappers.&nbsp\;</span></span></span></span></span>
LOCATION:Rosenstiel School Auditorium 4600 Rickenbacker Causeway\, Virginia Key\, FL 33149
UID:e.330.3587
SEQUENCE:3
DTSTAMP:20260421T061509Z
URL:https://business.keybiscaynechamber.org/events/details/tropical-fish-tales-by-dr-jerry-ault-professor-um-rosenstiel-school-02-15-2012-3587
END:VEVENT

END:VCALENDAR
