BEGIN:VCALENDAR
VERSION:2.0
PRODID:-//ChamberMaster//Event Calendar 2.0//EN
METHOD:PUBLISH
X-PUBLISHED-TTL:P3D
REFRESH-INTERVAL:P3D
CALSCALE:GREGORIAN
BEGIN:VEVENT
DTSTART:20260105T210000Z
DTEND:20260105T230000Z
X-MICROSOFT-CDO-ALLDAYEVENT:FALSE
SUMMARY:Three Kings Parade
DESCRIPTION:Join us to welcome the Three Kings\n\nThe magic starts at 4 PM!\n\n \n\nBring the little ones for creative craft stations\, photos and meet-and-greets with the Three Kings. Rosco n and hot chocolate available for purchase.\n\n \n\nEvent Activities:\n\n	4:00 pm St. Agnes: parade meeting point (Golf Carts)\n	\n		Paradise Park: Kids Craft Activities\n	\n	\n	4:15 pm Adoration and Meet & Greet with special needs children\n	4:30 pm Parade starts via Crandon Blvd\n	4:45 pm Parade arrives at Village of Key Biscayne Civic Center\n	5:00 pm Meet & greet the Three Kings
X-ALT-DESC;FMTTYPE=text/html:<br />\n<br />\n<span style="font-size:16px\;">Join us to welcome the Three Kings<br />\nThe magic starts at 4 PM!<br />\n&nbsp\;<br />\nBring the little ones for creative craft stations\, photos and meet-and-greets with the Three Kings. <strong>Rosco&#769\;n and hot chocolate available for purchase.</strong><br />\n&nbsp\;<br />\n<strong>Event Activities:</strong></span>\n<ul>\n	<li><span style="font-size:16px\;">4:00 pm St. Agnes: parade meeting point (Golf Carts)</span>\n	<ul>\n		<li><span style="font-size:16px\;">Paradise Park: Kids Craft Activities</span></li>\n	</ul>\n	</li>\n	<li><span style="font-size:16px\;">4:15 pm Adoration and Meet &amp\; Greet with special needs children</span></li>\n	<li><span style="font-size:16px\;">4:30 pm Parade starts via Crandon Blvd</span></li>\n	<li><span style="font-size:16px\;">4:45 pm Parade arrives at Village of Key Biscayne Civic Center</span></li>\n	<li><span style="font-size:16px\;">5:00 pm Meet &amp\; greet the Three Kings</span></li>\n</ul>\n
LOCATION:Village of Key Biscayne Civic Center
UID:e.330.23278
SEQUENCE:3
DTSTAMP:20260424T193630Z
URL:https://business.keybiscaynechamber.org/events/details/three-kings-parade-01-05-2026-23278
END:VEVENT

END:VCALENDAR
