BEGIN:VCALENDAR
VERSION:2.0
PRODID:-//ChamberMaster//Event Calendar 2.0//EN
METHOD:PUBLISH
X-PUBLISHED-TTL:P3D
REFRESH-INTERVAL:P3D
CALSCALE:GREGORIAN
BEGIN:VEVENT
DTSTART:20111013T213000Z
DTEND:20111013T233000Z
X-MICROSOFT-CDO-ALLDAYEVENT:FALSE
SUMMARY:This Is Your Ocean: Sharks
DESCRIPTION:University of Miami   Bill Cosford Cinema\n\n1111 Memorial Drive\, Coral Gables\, FL\n\n \n\nOctober 13\, 2011\n\nReception 5:30 p.m./Screening 6:30 p.m.\n\n \n\nAfter the screening Dr. Guy Harvey and Jim Abernethy\, and Writer\,\n\nEditor and Director George C. Shellenger will take questions from the\n\naudience\, alongside R\,J. Dunlap Marine Conservation Program\n\nDirector Dr. Neil Hammerschlag. The panel will be moderated by\n\nDr. Kenny Broad\, 2011 National Geographic Explorer of the Year\n\nand Director of UM's Abess Center for Ecosystem Science and Policy.\n\n \n\nTickets:\n\n$10 for UM students\n\n$20 for general admission\n\n$2\,000 for reserved seat + Adopt-A-Shark + VIP Dinner\n\n \n\nSeating is limited\, RSVP preferred:\n\nclovinsky@rsmas.miami.edu or call 305-421-4061
X-ALT-DESC;FMTTYPE=text/html:<strong><span style="font-size: 9pt"><span style="font-family: helvetica\, sans-serif">University of Miami &ndash\; Bill Cosford Cinema</span></span></strong><br />\n<strong><span style="font-size: 9pt"><span style="font-family: helvetica\, sans-serif">1111 Memorial Drive\, Coral Gables\, FL</span></span></strong><br />\n&nbsp\;<br />\n<strong><span style="font-size: 9pt"><span style="font-family: helvetica\, sans-serif">October 13\, 2011</span></span></strong><br />\n<strong><span style="font-size: 9pt"><span style="font-family: helvetica\, sans-serif">Reception 5:30 p.m./Screening 6:30 p.m.</span></span></strong><br />\n&nbsp\;<br />\n<span style="font-size: 8pt"><span style="font-family: helvetica\, sans-serif">After the screening Dr. Guy Harvey and Jim Abernethy\, and Writer\,</span></span><br />\n<span style="font-size: 8pt"><span style="font-family: helvetica\, sans-serif">Editor and Director George C. Shellenger will take questions from the</span></span><br />\n<span style="font-size: 8pt"><span style="font-family: helvetica\, sans-serif">audience\, alongside R\,J. Dunlap Marine Conservation Program</span></span><br />\n<span style="font-size: 8pt"><span style="font-family: helvetica\, sans-serif">Director Dr. Neil Hammerschlag. The panel will be moderated by</span></span><br />\n<span style="font-size: 8pt"><span style="font-family: helvetica\, sans-serif">Dr. Kenny Broad\, 2011 National Geographic Explorer of the Year</span></span><br />\n<span style="font-size: 8pt"><span style="font-family: helvetica\, sans-serif">and Director of UM&rsquo\;s Abess Center for Ecosystem Science and Policy.</span></span><br />\n&nbsp\;<br />\n<strong><u><span style="font-size: 8.5pt"><span style="font-family: helvetica\, sans-serif">Tickets</span></span></u></strong><span style="font-size: 8.5pt"><span style="font-family: helvetica\, sans-serif">:</span></span><br />\n<span style="font-size: 8.5pt"><span style="font-family: helvetica\, sans-serif">$10 for UM students</span></span><br />\n<span style="font-size: 8.5pt"><span style="font-family: helvetica\, sans-serif">$20 for general admission</span></span><br />\n<span style="font-size: 8.5pt"><span style="font-family: helvetica\, sans-serif">$2\,000 for reserved seat + Adopt-A-Shark + VIP Dinner</span></span><br />\n&nbsp\;<br />\n<span style="font-size: 8.5pt"><span style="font-family: helvetica\, sans-serif">Seating is limited\, RSVP preferred:</span></span><br />\n<span style="font-size: 8.5pt"><span style="font-family: helvetica\, sans-serif"><a href="mailto:clovinsky@rsmas.miami.edu"><span style="color: #0000ff">clovinsky@rsmas.miami.edu</span></a></span>&nbsp\;or call 305-421-4061&nbsp\;</span><br />\n
LOCATION:University of Miami Bill Cosford Cinema 1111 Memorial Drive\, Coral Gables\, FL
UID:e.330.3491
SEQUENCE:3
DTSTAMP:20260421T102517Z
URL:https://business.keybiscaynechamber.org/events/details/this-is-your-ocean-sharks-10-13-2011-3491
END:VEVENT

END:VCALENDAR
