BEGIN:VCALENDAR
VERSION:2.0
PRODID:-//ChamberMaster//Event Calendar 2.0//EN
METHOD:PUBLISH
X-PUBLISHED-TTL:P3D
REFRESH-INTERVAL:P3D
CALSCALE:GREGORIAN
BEGIN:VEVENT
DTSTART:20130521T220000Z
DTEND:20130521T230000Z
X-MICROSOFT-CDO-ALLDAYEVENT:FALSE
SUMMARY:The Secret of Ultimate Success
DESCRIPTION:A hands-on presentation with an Executive and Life Coach who will share with us the formula for Ultimate Success that we can use right away in our professional and personal life!\n\n	\n\n	RSVP
X-ALT-DESC;FMTTYPE=text/html:<div style="color: gray">\n	<span style="color: #000000"><span style="font-family: 'Arial'\, 'sans-serif'\; font-size: 10pt">A&nbsp\;hands-on presentation with an Executive and Life Coach who will share with us the formula for Ultimate Success that we can use right away in our professional and personal life!<br />\n	<br />\n	<a href="http://events.r20.constantcontact.com/register/eventReg?llr=u6xrgedab&amp\;oeidk=a07e7ggpusv0c2c856b&amp\;oseq=">RSVP</a>&nbsp\;</span></span></div>\n
LOCATION:KB Village Council Chambers 560 Crandon Blvd (entrance on Village Green Way) Key Biscayne\, FL
UID:e.330.3914
SEQUENCE:3
DTSTAMP:20260420T062013Z
URL:https://business.keybiscaynechamber.org/events/details/the-secret-of-ultimate-success-05-21-2013-3914
END:VEVENT

END:VCALENDAR
