BEGIN:VCALENDAR
VERSION:2.0
PRODID:-//ChamberMaster//Event Calendar 2.0//EN
METHOD:PUBLISH
X-PUBLISHED-TTL:P3D
REFRESH-INTERVAL:P3D
CALSCALE:GREGORIAN
BEGIN:VEVENT
DTSTART:20121201T190000Z
DTEND:20121201T230000Z
X-MICROSOFT-CDO-ALLDAYEVENT:FALSE
SUMMARY:The KB Scavenger Hunt-A True KB Family Event!
DESCRIPTION:If You Dare\, hop on your Golf Cart and gather up your team  (Max 6 on 1 Team)\n\n	Join the fun from 2 to 6 pm\n\n	Families on bikes can also participate\n\n	Lots of Prizes!  Lots of  fun!\n\n	All Event Proceeds to benefit the children with disabilities of the Local Act4Me Foundation\n\n	Please be punctual - Hunt starts @ the KB Presbyterian Church Parking Lot @ 2:00 pm\n\n	\n\n	 \n\n	    \n\n	\n\n	 \n\n	\n\n	 Click here to edit...
X-ALT-DESC;FMTTYPE=text/html:<div style="color: gray">\n	<span style="font-size: 10pt"><span style="font-family: tahoma\, sans-serif"><span style="font-family: tahoma"><span style="color: #000000">&nbsp\;</span><span style="font-size: 10pt"><span style="font-family: tahoma\, sans-serif"><span style="color: #000000">If You Dare\, hop on your Golf Cart and gather up your team&nbsp\; (Max 6 on 1 Team)<br />\n	Join the fun from 2 to 6 pm<br />\n	Families on bikes can also participate<br />\n	Lots of Prizes!&nbsp\; Lots of&nbsp\; fun!<br />\n	<span style="font-size: 10pt"><span style="font-family: tahoma\, sans-serif">All Event Proceeds to benefit the children with disabilities of the&nbsp\;Local Act4Me Foundation<br />\n	Please be punctual - Hunt starts @ the KB Presbyterian Church Parking Lot @ 2:00 pm</span><br />\n	<br />\n	&nbsp\;</span><br />\n	&nbsp\;&nbsp\;</span>&nbsp\;&nbsp\;</span><br />\n	<br />\n	&nbsp\;</span></span></span><br />\n	<br />\n	&nbsp\;</span>Click here to edit...</div>\n
LOCATION:KB Presbyterian Church Parking Lot
UID:e.330.3794
SEQUENCE:3
DTSTAMP:20260420T145734Z
URL:https://business.keybiscaynechamber.org/events/details/the-kb-scavenger-hunt-a-true-kb-family-event-12-01-2012-3794
END:VEVENT

END:VCALENDAR
