BEGIN:VCALENDAR
VERSION:2.0
PRODID:-//ChamberMaster//Event Calendar 2.0//EN
METHOD:PUBLISH
X-PUBLISHED-TTL:P3D
REFRESH-INTERVAL:P3D
CALSCALE:GREGORIAN
BEGIN:VEVENT
DTSTART:20110529T210000Z
DTEND:20110530T035500Z
X-MICROSOFT-CDO-ALLDAYEVENT:FALSE
SUMMARY:The Ibis Lounge will be open this Sunday
DESCRIPTION:The Ibis Lounge will be open this Sunday from 5pm-12am
X-ALT-DESC;FMTTYPE=text/html:The Ibis Lounge will be open this Sunday from 5pm-12am
LOCATION:The Ibis Lounge 200 Crandon Blvd #101 Key Biscayne\, Fl 33149
UID:e.330.3390
SEQUENCE:3
DTSTAMP:20260421T183800Z
URL:https://business.keybiscaynechamber.org/events/details/the-ibis-lounge-will-be-open-this-sunday-05-29-2011-3390
END:VEVENT

END:VCALENDAR
