BEGIN:VCALENDAR
VERSION:2.0
PRODID:-//ChamberMaster//Event Calendar 2.0//EN
METHOD:PUBLISH
X-PUBLISHED-TTL:P3D
REFRESH-INTERVAL:P3D
CALSCALE:GREGORIAN
BEGIN:VEVENT
DTSTART:20130313T213000Z
DTEND:20130313T230000Z
X-MICROSOFT-CDO-ALLDAYEVENT:FALSE
SUMMARY:THE HUMAN FACTOR: OUR IMPACT ON EARTH's FINAL FRONTIER
DESCRIPTION:Sea Secrets Lecture Series\n\n	\n\n	The Human Factor:\n\n	Our Impact on Earth's Final Frontier \n\n	 \n\n	Considered by many to be the planet's final frontier for exploration\, the deep sea is home to a wealth of mineral\, oil and gas deposits that mankind's ever-increasing population will need in the future. Biologist Chuck Fisher has been studying the communities that live around natural oil and gas seeps in the deep Gulf of Mexico\, and those that live on deep sea hydrothermal vents since their discovery about 30 years ago. This pioneer in the field is an expert on the amazing evolutionary adaptations of giant tubeworms and other strange animals to the extreme\, often toxic environments of undersea volcanoes and oil seeps. With the first deep sea mining of hydrothermal vents scheduled for 2013\, and drilling in the Gulf moving into deeper and deeper water\, much of Fisher's research is now addressing the ecology of these poorly known communities and their resiliency to human impacts.
X-ALT-DESC;FMTTYPE=text/html:<p align="center" class="xmsonormal" style="text-align: center\; margin: 1em 0in">\n	<font color="#000000"><span style="font-family: 'Georgia'\, 'serif'\; font-size: 11pt">Sea Secrets Lecture Series<br />\n	<br />\n	The Human Factor:<br />\n	Our Impact on Earth&#39\;s Final Frontier&nbsp\;</span></font><br />\n	&nbsp\;</p>\n<p class="xmsonormal" style="margin: 1em 0in">\n	<span style="font-family: 'Georgia'\, 'serif'\; font-size: 14pt"><font color="#000000"><span class="xapple-style-span"><span new="" style="font-family: ''\; font-size: 10pt" times=""><font color="#000000" face="Times New Roman">Considered by many to be the planet&rsquo\;s final frontier for exploration\, the deep sea is home to a wealth of mineral\, oil and gas deposits that mankind&rsquo\;s ever-increasing population will need in the future. Biologist Chuck Fisher has been studying the communities that live around natural oil and gas seeps in the deep Gulf of Mexico\, and those that live on deep sea hydrothermal vents since their discovery about 30 years ago. This pioneer in the field is an expert on the amazing evolutionary adaptations of giant tubeworms and other strange animals to the extreme\, often toxic environments of undersea volcanoes and oil seeps. With the first deep sea mining of hydrothermal vents scheduled for 2013\, and drilling in the Gulf moving into deeper and deeper water\, much of Fisher&rsquo\;s research is now addressing the ecology of these poorly known communities and their resiliency to human impacts.</font></span></span><o:p></o:p></font></span></p>\n<p align="center" class="xmsonormal" style="text-align: center\; margin: 1em 0in">\n	<br />\n	&nbsp\;</p>\n
LOCATION:Rosenstiel School Auditorium 4600 Rickenbacker Causeway\, Virginia Key\, FL 33149
UID:e.330.3870
SEQUENCE:3
DTSTAMP:20260420T091242Z
URL:https://business.keybiscaynechamber.org/events/details/the-human-factor-our-impact-on-earth-s-final-frontier-03-13-2013-3870
END:VEVENT

END:VCALENDAR
