BEGIN:VCALENDAR
VERSION:2.0
PRODID:-//ChamberMaster//Event Calendar 2.0//EN
METHOD:PUBLISH
X-PUBLISHED-TTL:P3D
REFRESH-INTERVAL:P3D
CALSCALE:GREGORIAN
BEGIN:VEVENT
DTSTART:20131213T200000Z
DTEND:20131215T050000Z
X-MICROSOFT-CDO-ALLDAYEVENT:FALSE
SUMMARY:The Holiday Fair
DESCRIPTION:Enjoy Rides\, Games\, Food Trucks\, Arts & Crafts \, & much more.
X-ALT-DESC;FMTTYPE=text/html:Enjoy Rides\, Games\, Food Trucks\, Arts &amp\; Crafts \, &amp\; much more.
LOCATION:4020 Virginia Beach Dr Miami\, Fl 33149 ( Rickenbacker Causeway - Left at second traffic light)
UID:e.330.4028
SEQUENCE:3
DTSTAMP:20260419T203935Z
URL:https://business.keybiscaynechamber.org/events/details/the-holiday-fair-12-13-2013-4028
END:VEVENT

END:VCALENDAR
