BEGIN:VCALENDAR
VERSION:2.0
PRODID:-//ChamberMaster//Event Calendar 2.0//EN
METHOD:PUBLISH
X-PUBLISHED-TTL:P3D
REFRESH-INTERVAL:P3D
CALSCALE:GREGORIAN
BEGIN:VEVENT
DTSTART:20121110T180000Z
DTEND:20121112T000000Z
X-MICROSOFT-CDO-ALLDAYEVENT:FALSE
SUMMARY:Taste of Peru 2012
DESCRIPTION:Wonderful dishes from Peru\, live entertainment\, fashion show\, arts & crafts and a kids area.
X-ALT-DESC;FMTTYPE=text/html:<p>\n	Wonderful dishes from Peru\, live entertainment\, fashion show\, arts &amp\; crafts and a kids area.</p>\n
LOCATION:Miami Airport Convention Center 711 NW 72 Avenue Miami\, FL 33138
UID:e.330.3793
SEQUENCE:3
DTSTAMP:20260420T161859Z
URL:https://business.keybiscaynechamber.org/events/details/taste-of-peru-2012-11-10-2012-3793
END:VEVENT

END:VCALENDAR
