BEGIN:VCALENDAR
VERSION:2.0
PRODID:-//ChamberMaster//Event Calendar 2.0//EN
METHOD:PUBLISH
X-PUBLISHED-TTL:P3D
REFRESH-INTERVAL:P3D
CALSCALE:GREGORIAN
BEGIN:VEVENT
DTSTART:20120225T153000Z
DTEND:20120225T170000Z
X-MICROSOFT-CDO-ALLDAYEVENT:FALSE
SUMMARY:Synergy Private Gym Presents iDance
DESCRIPTION:iDance - Hip Hop with LeRoy Brown
X-ALT-DESC;FMTTYPE=text/html:iDance - Hip Hop with LeRoy Brown
LOCATION:Fun paced Hip Hop Dance classes for Adults
UID:e.330.3594
SEQUENCE:3
DTSTAMP:20260421T061137Z
URL:https://business.keybiscaynechamber.org/events/details/synergy-private-gym-presents-idance-02-25-2012-3594
END:VEVENT

END:VCALENDAR
