BEGIN:VCALENDAR
VERSION:2.0
PRODID:-//ChamberMaster//Event Calendar 2.0//EN
METHOD:PUBLISH
X-PUBLISHED-TTL:P3D
REFRESH-INTERVAL:P3D
CALSCALE:GREGORIAN
BEGIN:VEVENT
DTSTART:20110409T230000Z
DTEND:20110410T020000Z
X-MICROSOFT-CDO-ALLDAYEVENT:FALSE
SUMMARY:Sylvia Bennett at Bertofino's
DESCRIPTION:International Recording Artist and Grammy Nominee Sylvia Bennett will perform her show All that Jazz to celebrate Jazz Month. Sylvia will be singing favorite jazz standards from the American Songbook.Bertofino's will present a $45 three-course prix fixe dinner that includes entertainment.\n\n\n\nBar opens at 6pm\, dinner reservations 7pm & 7.30pm. Show 9pm after dinner.\n\n\n\nLimited seating - reserve early.
X-ALT-DESC;FMTTYPE=text/html:<span style="font-family: arial"><span style="font-size: 12px">International Recording Artist and Grammy Nominee Sylvia Bennett will perform her show All that Jazz to celebrate Jazz Month. Sylvia will be singing favorite jazz standards from the American Songbook.Bertofino&#39\;s will present a $45 three-course prix fixe dinner that includes entertainment.<br />\n<br />\nBar opens at 6pm\, dinner reservations 7pm &amp\; 7.30pm. Show 9pm after dinner.<br />\n<br />\nLimited seating - reserve early.</span></span>
LOCATION:Bertofino's - The Towers of Key Biscayne\, 1111 Crandon Boulevard
UID:e.330.3330
SEQUENCE:3
DTSTAMP:20260421T185438Z
URL:https://business.keybiscaynechamber.org/events/details/sylvia-bennett-at-bertofino-s-04-09-2011-3330
END:VEVENT

END:VCALENDAR
