BEGIN:VCALENDAR
VERSION:2.0
PRODID:-//ChamberMaster//Event Calendar 2.0//EN
METHOD:PUBLISH
X-PUBLISHED-TTL:P3D
REFRESH-INTERVAL:P3D
CALSCALE:GREGORIAN
BEGIN:VEVENT
DTSTART:20110206T233000Z
DTEND:20110207T045500Z
X-MICROSOFT-CDO-ALLDAYEVENT:FALSE
SUMMARY:Super Bowl at The Ibis Lounge
DESCRIPTION:Watch the Suber Bowl at Ibis Lounge\n\nNew menu items including ribs\, burgers\, wings and more\n\nGiveaways at every score
X-ALT-DESC;FMTTYPE=text/html:Watch the Suber Bowl at Ibis Lounge\n<br>New menu items including ribs\, burgers\, wings and more\n<br>Giveaways at every score
LOCATION:The Ibis Lounge 200 Crandon Blvd #101 Key Biscayne\, Fl 33149
UID:e.330.3067
SEQUENCE:3
DTSTAMP:20260421T213922Z
URL:https://business.keybiscaynechamber.org/events/details/super-bowl-at-the-ibis-lounge-02-06-2011-3067
END:VEVENT

END:VCALENDAR
