BEGIN:VCALENDAR
VERSION:2.0
PRODID:-//ChamberMaster//Event Calendar 2.0//EN
METHOD:PUBLISH
X-PUBLISHED-TTL:P3D
REFRESH-INTERVAL:P3D
CALSCALE:GREGORIAN
BEGIN:VEVENT
DTSTART:20251023T150000Z
DTEND:20251023T190000Z
X-MICROSOFT-CDO-ALLDAYEVENT:FALSE
SUMMARY:Sunshine & Style at The Ocean Club
DESCRIPTION:The Key Biscayne Fund for the Sunshine Kids is proud to announce its 4th annual Key Biscayne Fundraiser. It will be held at The Ocean Club's Palm Court on Thursday\, October 23\, 2025 from 11:00 am to 3:00 pm.\n\n\n\nThe event will be a celebration of hope and resilience featuring brunch and a beautiful fashion show from our local stores and artists. It will gather community residents and leaders\, philanthropists\, and supporters who share our commitment to improving the lives of these brave children undergoing cancer treatment.\n\n\n\nThanks to our generous sponsors\, the Key Biscayne Fund for the Sunshine Kids has been able to donate over $50\,000 so they may continue their remarkable efforts to provide positive group activities\, promote self-esteem and personal accomplishment to children receiving extended cancer treatment within 85 hospitals across North America. Included in these are our very own South Florida Hospitals   Holtz Children's Hospital at Jackson Memorial\, Joe DiMaggio Children's Hospital\, Miami Cancer Institute and Nicklaus Children's Hospital.\n\n\n\nParticipating Stores/Designers:\n\n\n	120% Lino\n	Dafne Heinzmann\n	Lilly Pulitzer\n	Mara Intimates\n	Angela Horton\n	Coco Paris\n	Guadalupe Design\n	Las Sure as\n\nMaster of Ceremonies: Cristina Puig Mooney\, Former News Anchor at Telemundo 49
X-ALT-DESC;FMTTYPE=text/html:<br />\n<br />\n<span style="font-size:18px\;"><span style="font-family:arial\;">The Key Biscayne Fund for the Sunshine Kids is proud to announce its 4th annual Key Biscayne Fundraiser. It will be held at The Ocean Club&rsquo\;s Palm Court on Thursday\, October 23\, 2025 from 11:00 am to 3:00 pm.<br />\n<br />\nThe event will be a celebration of hope and resilience featuring brunch and a beautiful fashion show from our local stores and artists. It will gather community residents and leaders\, philanthropists\, and supporters who share our commitment to improving the lives of these brave children undergoing cancer treatment.<br />\n<br />\nThanks to our generous sponsors\, the Key Biscayne Fund for the Sunshine Kids has been able to donate over $50\,000 so they may continue their remarkable efforts to provide positive group activities\, promote self-esteem and personal accomplishment to children receiving extended cancer treatment within 85 hospitals across North America. Included in these are our very own South Florida Hospitals &ndash\; Holtz Children&rsquo\;s Hospital at Jackson Memorial\, Joe DiMaggio Children&rsquo\;s Hospital\, Miami Cancer Institute and Nicklaus Children&rsquo\;s Hospital.<br />\n<br />\n<span style="color:black\;">Participating Stores/Designers:</span></span></span>\n\n<ul>\n	<li><strong style="font-family: arial\; font-size: 18px\;">120% Lino</strong></li>\n	<li><strong style="font-family: arial\; font-size: 18px\;">Dafne&nbsp\;Heinzmann</strong></li>\n	<li><strong style="font-family: arial\; font-size: 18px\;">Lilly Pulitzer</strong></li>\n	<li><strong style="font-family: arial\; font-size: 18px\;">Mara Intimates</strong></li>\n	<li><strong><span style="font-family: arial\; font-size: 18px\;">Angela Horton</span></strong></li>\n	<li><strong><span style="font-family: arial\; font-size: 18px\;">Coco Paris</span></strong></li>\n	<li><strong><span style="font-family: arial\; font-size: 18px\;">Guadalupe Design</span></strong></li>\n	<li><strong><span style="font-family: arial\; font-size: 18px\;">Las Sure&ntilde\;as</span></strong></li>\n</ul>\n<span style="font-size:18px\;">Master of Ceremonies:&nbsp\;<strong>Cristina Puig Mooney</strong>\, <em>Former News Anchor at Telemundo 49</em></span><br />\n&nbsp\;
LOCATION:The Ocean Club
UID:e.330.23137
SEQUENCE:3
DTSTAMP:20260424T212116Z
URL:https://business.keybiscaynechamber.org/events/details/sunshine-style-at-the-ocean-club-23137
END:VEVENT

END:VCALENDAR
