BEGIN:VCALENDAR
VERSION:2.0
PRODID:-//ChamberMaster//Event Calendar 2.0//EN
METHOD:PUBLISH
X-PUBLISHED-TTL:P3D
REFRESH-INTERVAL:P3D
CALSCALE:GREGORIAN
BEGIN:VEVENT
DTSTART:20251119T220000Z
DTEND:20251120T000000Z
X-MICROSOFT-CDO-ALLDAYEVENT:FALSE
SUMMARY:Sunset Social at KB Beach Club
DESCRIPTION:The G Law Firm invites you to a Sunset Social on Wednesday\, November 19th (5PM - 7PM) at the Key Biscayne Beach Club.\n\n\n\nEnjoy Drinks - Small Plates - Happy Hour\n\n\n\nCONVERSATIONS ON:\n\n	Real Estate \n	Tax\n	1031 Exchange\n	Title\n	AI\n	Marketing in Real Estate\n\n GUEST SPEAKERS:\n\nRicardo Guerrero\, Esq. - Real Estate Attorney\n\nVictoria Noyes   Marketing Director\, The G Law Firm\n\n\n\nRSVP Required: vn@thegfirm.com
X-ALT-DESC;FMTTYPE=text/html:<br />\n<span style="font-size:14px\;"><span style="font-family:arial\;"><span style="font-size:16px\;">The G Law Firm invites you to a Sunset Social on Wednesday\, November 19th (5PM - 7PM) at the Key Biscayne Beach Club.<br />\n<br />\nEnjoy Drinks - Small Plates - Happy Hour</span><br />\n<br />\n<span style="font-size:18px\;">CONVERSATIONS ON:</span></span></span>\n<ul>\n	<li style="font-size:12pt\;font-family:Aptos\;"><span style="font-size:14px\;"><span style="font-family:arial\;">Real Estate </span></span></li>\n	<li style="font-size:12pt\;font-family:Aptos\;"><span style="font-size:14px\;"><span style="font-family:arial\;">Tax</span></span></li>\n	<li style="font-size:12pt\;font-family:Aptos\;"><span style="font-size:14px\;"><span style="font-family:arial\;">1031 Exchange</span></span></li>\n	<li style="font-size:12pt\;font-family:Aptos\;"><span style="font-size:14px\;"><span style="font-family:arial\;">Title</span></span></li>\n	<li style="font-size:12pt\;font-family:Aptos\;"><span style="font-size:14px\;"><span style="font-family:arial\;">AI</span></span></li>\n	<li style="font-size:12pt\;font-family:Aptos\;"><span style="font-size:14px\;"><span style="font-family:arial\;">Marketing in Real Estate</span></span></li>\n</ul>\n<span style="font-size:14px\;"><span style="font-size:18px\;"> <span style="font-family: arial\;">GUEST SPEAKERS:</span></span><br style="font-family: arial\; font-size: 14px\;" />\n<span style="font-size:16px\;"><span century="" font-size:="" style="font-family: arial\; caret-color: rgb(0\, 0\, 0)\; color: rgb(0\, 0\, 0)\;" text-size-adjust:="">Ricardo Guerrero\, Esq. - Real Estate Attorney</span><br />\n<span century="" style="caret-color: rgb(0\, 0\, 0)\; color: rgb(0\, 0\, 0)\; font-family: " text-size-adjust:="">Victoria Noyes &ndash\; Marketing Director\, The G Law Firm</span></span></span><br />\n<br />\n<span style="font-size:20px\;">RSVP Required: <a href="mailto:vn@thegfirm.com?subject=RSVP%20to%20Sunset%20Social">vn@thegfirm.com</a></span>
LOCATION:Key Biscayne Beach Club
UID:e.330.23274
SEQUENCE:3
DTSTAMP:20260424T212025Z
URL:https://business.keybiscaynechamber.org/events/details/sunset-social-at-kb-beach-club-23274
END:VEVENT

END:VCALENDAR
