BEGIN:VCALENDAR
VERSION:2.0
PRODID:-//ChamberMaster//Event Calendar 2.0//EN
METHOD:PUBLISH
X-PUBLISHED-TTL:P3D
REFRESH-INTERVAL:P3D
CALSCALE:GREGORIAN
BEGIN:VEVENT
DTSTART:20120322T230000Z
DTEND:20120323T010000Z
X-MICROSOFT-CDO-ALLDAYEVENT:FALSE
SUMMARY:Strengthen Your Family by Improving Your Marriage - Marriage Seminar
DESCRIPTION:"The best gift that you can give your children is a healthy marriage."  \n\n	Couples of all ages are invited to come and learn principles for deepening the marriage relationship.  The seminar will be presented by Pastoral Counselor Richard Crane and his wife of 35 years\, Robyn.  The Seminar will also be offered in Spanish on Thursday\, March 8 at 7 p.m.
X-ALT-DESC;FMTTYPE=text/html:<style type="text/css">\n<!--\n /* Font Definitions */\n@font-face\n	{font-family:"&#65325\;&#65331\; &#26126\;&#26397\;"\;\n	panose-1:0 0 0 0 0 0 0 0 0 0\;\n	mso-font-charset:128\;\n	mso-generic-font-family:roman\;\n	mso-font-format:other\;\n	mso-font-pitch:fixed\;\n	mso-font-signature:1 134676480 16 0 131072 0\;}\n@font-face\n	{font-family:"&#65325\;&#65331\; &#26126\;&#26397\;"\;\n	panose-1:0 0 0 0 0 0 0 0 0 0\;\n	mso-font-charset:128\;\n	mso-generic-font-family:roman\;\n	mso-font-format:other\;\n	mso-font-pitch:fixed\;\n	mso-font-signature:1 134676480 16 0 131072 0\;}\n@font-face\n	{font-family:Calibri\;\n	panose-1:2 15 5 2 2 2 4 3 2 4\;\n	mso-font-charset:0\;\n	mso-generic-font-family:auto\;\n	mso-font-pitch:variable\;\n	mso-font-signature:3 0 0 0 1 0\;}\n@font-face\n	{font-family:Cambria\;\n	panose-1:2 4 5 3 5 4 6 3 2 4\;\n	mso-font-charset:0\;\n	mso-generic-font-family:auto\;\n	mso-font-pitch:variable\;\n	mso-font-signature:3 0 0 0 1 0\;}\n /* Style Definitions */\np.MsoNormal\, li.MsoNormal\, div.MsoNormal\n	{mso-style-unhide:no\;\n	mso-style-qformat:yes\;\n	mso-style-parent:""\;\n	margin:0in\;\n	margin-bottom:.0001pt\;\n	mso-pagination:widow-orphan\;\n	font-size:12.0pt\;\n	font-family:Cambria\;\n	mso-fareast-font-family:"&#65325\;&#65331\; &#26126\;&#26397\;"\;\n	mso-bidi-font-family:"Times New Roman"\;\n	mso-fareast-language:JA\;}\n.MsoChpDefault\n	{mso-style-type:export-only\;\n	mso-default-props:yes\;\n	font-size:10.0pt\;\n	mso-ansi-font-size:10.0pt\;\n	mso-bidi-font-size:10.0pt\;\n	font-family:Cambria\;\n	mso-ascii-font-family:Cambria\;\n	mso-fareast-font-family:"&#65325\;&#65331\; &#26126\;&#26397\;"\;\n	mso-hansi-font-family:Cambria\;}\n@page WordSection1\n	{size:8.5in 11.0in\;\n	margin:1.0in 1.25in 1.0in 1.25in\;\n	mso-header-margin:.5in\;\n	mso-footer-margin:.5in\;\n	mso-paper-source:0\;}\ndiv.WordSection1\n	{page:WordSection1\;}\n--></style>\n<p class="MsoNormal" style="margin-top:0in\;margin-right:7.3pt\;margin-bottom:0in\;\nmargin-left:31.5pt\;margin-bottom:.0001pt\;text-align:justify\;text-justify:inter-ideograph\;\nmso-pagination:none\;tab-stops:508.5pt\;mso-layout-grid-align:none\;text-autospace:\nnone">\n	<span style="font-size:16.0pt\;font-family:Calibri\;mso-bidi-font-family:\nHelvetica">&ldquo\;The best gift that you can give your children is a healthy marriage.&rdquo\;<span style="mso-spacerun:yes">&nbsp\; </span><br />\n	Couples of all ages are invited to come and learn principles for deepening the marriage relationship.<span style="mso-spacerun:yes">&nbsp\; </span>The seminar will be presented by Pastoral Counselor Richard Crane and his wife of 35 years\, Robyn.&nbsp\; The Seminar will also be offered in Spanish on Thursday\, March 8 at 7 p.m.</span></p>\n
LOCATION:Key Biscayne Presbyterian Church 160 Harbor Drive Key Biscayne\, FL 33149
UID:e.330.3598
SEQUENCE:3
DTSTAMP:20260421T044237Z
URL:https://business.keybiscaynechamber.org/events/details/strengthen-your-family-by-improving-your-marriage-marriage-seminar-03-22-2012-3598
END:VEVENT

END:VCALENDAR
