BEGIN:VCALENDAR
VERSION:2.0
PRODID:-//ChamberMaster//Event Calendar 2.0//EN
METHOD:PUBLISH
X-PUBLISHED-TTL:P3D
REFRESH-INTERVAL:P3D
CALSCALE:GREGORIAN
BEGIN:VEVENT
DTSTART:20110227T000000Z
DTEND:20110227T040000Z
X-MICROSOFT-CDO-ALLDAYEVENT:FALSE
SUMMARY:Stone Crabs Under the Stars
DESCRIPTION:StoneCrabs Under the Stars party that will be held at the Key Biscayne Beach Club on February 26th from 7:30-11:30.  Tickets are on sale at the Key Biscayne Presbyterian School office each day between 8:30 and 3:00.  \n	\n		 \n	\n		As usual\, they will have all you can eat stonecrabs\, churrasco\, appetizers\, desserts and sides\, as well as a Bacardi bar\, beer and wine.  Ana Ramoski has arranged to bring in her "famous" DJ\, and we have a huge silent auction.\n	\n		 \n	\n		We are also selling tickets for a "chance drawing" in which \n	\n		1st prize is $4000. toward 2011-12 tuition or the cash value.  \n	\n		2nd prize is valued at $750 and they are gold\, rock crystal & diamond drop earrings donated by "Diamonds On The Key".\n	\n		3rd prize is a wine collection featuring over 40 bottles. Tickets are $25.00 each or 5 for $100.00.  They are also being sold in the school office.  Winner need not be present to win\, so if you can't come to the event\, you still have an opportunity to support it.\n	\n		 \n	\n		We are raising money to update our building to be more energy efficient.  This will include fans\, new lighting\, duct cleaning\, new windows and much more.  We will also need funds to furnish and equip the new toddler classroom.  Everyone's support is needed and greatly appreciated!!
X-ALT-DESC;FMTTYPE=text/html:<div>\n	<p class="MsoNormal" style="margin: 0in 0in 0pt\; mso-margin-top-alt: auto\; mso-margin-bottom-alt: auto">\n		<span style="font-family: arial"><span style="font-size: 12px"><span style="font-family: 'arial'\, 'sans-serif'\; color: #0d0d0d\; font-size: 10pt">StoneCrabs Under the Stars party that</span><span style="font-family: 'arial'\, 'sans-serif'\; color: #1f497d\; font-size: 10pt"> </span><span style="font-family: 'arial'\, 'sans-serif'\; color: black\; font-size: 10pt">will be held at the Key Biscayne Beach Club on February 26th from 7:30-11:30.&nbsp\; Tickets are on sale at the Key Biscayne Presbyterian School office each day between 8:30 and 3:00.&nbsp\; <o:p></o:p></span></span></span></p>\n	<p class="MsoNormal" style="margin: 0in 0in 0pt">\n		<span style="font-family: arial"><span style="font-size: 12px"><span style="font-family: 'arial'\, 'sans-serif'\; color: black\; font-size: 10pt\; mso-fareast-font-family: 'times new roman'">&nbsp\;<o:p></o:p></span></span></span></p>\n	<p class="MsoNormal" style="margin: 0in 0in 0pt">\n		<span style="font-family: arial"><span style="font-size: 12px"><span style="font-family: 'arial'\, 'sans-serif'\; color: black\; font-size: 10pt\; mso-fareast-font-family: 'times new roman'">As usual\, </span><span style="font-family: 'arial'\, 'sans-serif'\; color: #0d0d0d\; font-size: 10pt\; mso-fareast-font-family: 'times new roman'">they </span><span style="font-family: 'arial'\, 'sans-serif'\; color: black\; font-size: 10pt\; mso-fareast-font-family: 'times new roman'">will have all you can eat stonecrabs\, churrasco\, appetizers\, desserts and sides\, as well as a Bacardi bar\, beer and wine.&nbsp\; Ana Ramoski has arranged to bring in her &quot\;famous&quot\; DJ\, and we have a huge silent auction.<o:p></o:p></span></span></span></p>\n	<p class="MsoNormal" style="margin: 0in 0in 0pt">\n		<span style="font-family: arial"><span style="font-size: 12px"><span style="font-family: 'arial'\, 'sans-serif'\; color: black\; font-size: 10pt\; mso-fareast-font-family: 'times new roman'">&nbsp\;<o:p></o:p></span></span></span></p>\n	<p class="MsoNormal" style="margin: 0in 0in 0pt">\n		<span style="font-family: arial"><span style="font-size: 12px"><span style="font-family: 'arial'\, 'sans-serif'\; color: black\; font-size: 10pt\; mso-fareast-font-family: 'times new roman'">We are also selling tickets for a &quot\;chance drawing&quot\; in which <o:p></o:p></span></span></span></p>\n	<p class="MsoNormal" style="margin: 0in 0in 0pt">\n		<span style="font-family: arial"><span style="font-size: 12px"><strong><span style="font-family: 'arial'\, 'sans-serif'\; color: black\; font-size: 10pt\; mso-fareast-font-family: 'times new roman'">1st prize</span></strong><span style="font-family: 'arial'\, 'sans-serif'\; color: black\; font-size: 10pt\; mso-fareast-font-family: 'times new roman'"> is $4000. toward 2011-12 tuition or the cash value.&nbsp\; <o:p></o:p></span></span></span></p>\n	<p class="MsoNormal" style="margin: 0in 0in 0pt\; mso-margin-top-alt: auto\; mso-margin-bottom-alt: auto">\n		<span style="font-family: arial"><span style="font-size: 12px"><strong><span style="font-family: 'arial'\, 'sans-serif'\; color: black\; font-size: 10pt">2nd prize</span></strong><span style="font-family: 'arial'\, 'sans-serif'\; color: black\; font-size: 10pt"> is valued at $750 and they are gold\, rock crystal &amp\; diamond drop earrings donated&nbsp\;by&nbsp\;&quot\;Diamonds On The Key&quot\;.<o:p></o:p></span></span></span></p>\n	<p class="MsoNormal" style="margin: 0in 0in 0pt">\n		<span style="font-family: arial"><span style="font-size: 12px"><strong><span style="font-family: 'arial'\, 'sans-serif'\; color: black\; font-size: 10pt\; mso-fareast-font-family: 'times new roman'">3rd prize</span></strong><span style="font-family: 'arial'\, 'sans-serif'\; color: black\; font-size: 10pt\; mso-fareast-font-family: 'times new roman'"> is a wine collection featuring over 40 bottles. Tickets are $25.00 each or 5 for $100.00.&nbsp\; They are also being sold in the school office.&nbsp\; Winner need not be present to win\, so if you can&#39\;t come to the event\, you still have an opportunity to support it.<o:p></o:p></span></span></span></p>\n	<p class="MsoNormal" style="margin: 0in 0in 0pt">\n		<span style="font-family: arial"><span style="font-size: 12px"><span style="font-family: 'arial'\, 'sans-serif'\; color: black\; font-size: 10pt\; mso-fareast-font-family: 'times new roman'">&nbsp\;<o:p></o:p></span></span></span></p>\n	<p class="MsoNormal" style="margin: 0in 0in 0pt">\n		<span style="font-family: arial"><span style="font-size: 12px"><span style="font-family: 'arial'\, 'sans-serif'\; color: black\; font-size: 10pt\; mso-fareast-font-family: 'times new roman'">We are raising money to update our building to be more energy efficient.&nbsp\; This will include fans\, new lighting\, duct cleaning\, new windows and much more.&nbsp\; We will also need funds to furnish and equip the new toddler classroom.&nbsp\; Everyone&#39\;s support is needed and greatly appreciated!!<o:p></o:p></span></span></span></p>\n</div>\n
LOCATION:Key Biscayne Beach Club
UID:e.330.3072
SEQUENCE:3
DTSTAMP:20260421T213723Z
URL:https://business.keybiscaynechamber.org/events/details/stone-crabs-under-the-stars-02-26-2011-3072
END:VEVENT

END:VCALENDAR
