BEGIN:VCALENDAR
VERSION:2.0
PRODID:-//ChamberMaster//Event Calendar 2.0//EN
METHOD:PUBLISH
X-PUBLISHED-TTL:P3D
REFRESH-INTERVAL:P3D
CALSCALE:GREGORIAN
BEGIN:VEVENT
DTSTART;VALUE=DATE:20120602
DTEND;VALUE=DATE:20120603
TRANSP:TRANSPARENT
X-MICROSOFT-CDO-ALLDAYEVENT:TRUE
SUMMARY:Stefano's Wine & Liquor Tastings
DESCRIPTION:Saturday\, June 2nd:\n\n\n\nChilean Wine Tasting- Tasting with Angels- MONTES ALPHA\n\n\n\nCarmenere\, Cabernet Savignon\, Syrah & Chardonnay
X-ALT-DESC;FMTTYPE=text/html:Saturday\, June 2nd:<br />\n<br />\nChilean Wine Tasting- Tasting with Angels- MONTES ALPHA<br />\n<br />\nCarmenere\, Cabernet Savignon\, Syrah &amp\; Chardonnay<br />\n
LOCATION:Stefano's Wine & Liquor at the Galleria Mall
UID:e.330.3714
SEQUENCE:3
DTSTAMP:20260420T235157Z
URL:https://business.keybiscaynechamber.org/events/details/stefano-s-wine-liquor-tastings-06-02-2012-3714
END:VEVENT

END:VCALENDAR
