BEGIN:VCALENDAR
VERSION:2.0
PRODID:-//ChamberMaster//Event Calendar 2.0//EN
METHOD:PUBLISH
X-PUBLISHED-TTL:P3D
REFRESH-INTERVAL:P3D
CALSCALE:GREGORIAN
BEGIN:VEVENT
DTSTART:20120601T210000Z
DTEND:20120602T000000Z
X-MICROSOFT-CDO-ALLDAYEVENT:FALSE
SUMMARY:Stefano's Wine & Liquor Tastings
DESCRIPTION:Friday: June 1st\n\n\n\nIn Store Tastings:\n\n\n\nArgentinian Wine- UVA Malbec Reserva\n\n\n\nBlue Head Margarita-- ready to go margarita with real blue head tequila\n\n\n\nZyr Vodka
X-ALT-DESC;FMTTYPE=text/html:<br />\nFriday: June 1st<br />\n<br />\nIn Store Tastings:<br />\n<br />\nArgentinian Wine- UVA Malbec Reserva<br />\n<br />\nBlue Head Margarita-- ready to go margarita with real blue head tequila<br />\n<br />\nZyr Vodka<br />\n
LOCATION:Stefano's Wine & Liquor at the Galleria Mall
UID:e.330.3713
SEQUENCE:3
DTSTAMP:20260420T235303Z
URL:https://business.keybiscaynechamber.org/events/details/stefano-s-wine-liquor-tastings-06-01-2012-3713
END:VEVENT

END:VCALENDAR
