BEGIN:VCALENDAR
VERSION:2.0
PRODID:-//ChamberMaster//Event Calendar 2.0//EN
METHOD:PUBLISH
X-PUBLISHED-TTL:P3D
REFRESH-INTERVAL:P3D
CALSCALE:GREGORIAN
BEGIN:VEVENT
DTSTART:20140426T210000Z
DTEND:20140427T000000Z
X-MICROSOFT-CDO-ALLDAYEVENT:FALSE
SUMMARY:Stefano's California Pinot Noir Tasting
DESCRIPTION:CALIFORNIA PINOT NOIR TASTING\n\n\n\nALPHABETS PINOT NOIR\n\n\n\nRIVIERA PINOT NOIR
X-ALT-DESC;FMTTYPE=text/html:<br />\n<br />\n<strong><u><span style="font-size: 16px\;">CALIFORNIA PINOT NOIR TASTING</span></u></strong><br />\n<br />\n<span style="font-size: 16px\;">ALPHABETS PINOT NOIR<br />\n<br />\nRIVIERA PINOT NOIR</span>
LOCATION:STEFANO?S WINE & LIQUOR AT THE GALLERIA MALL
UID:e.330.4098
SEQUENCE:3
DTSTAMP:20260419T133903Z
URL:https://business.keybiscaynechamber.org/events/details/stefano-s-california-pinot-noir-tasting-04-26-2014-4098
END:VEVENT

END:VCALENDAR
