BEGIN:VCALENDAR
VERSION:2.0
PRODID:-//ChamberMaster//Event Calendar 2.0//EN
METHOD:PUBLISH
X-PUBLISHED-TTL:P3D
REFRESH-INTERVAL:P3D
CALSCALE:GREGORIAN
BEGIN:VEVENT
DTSTART:20260114T234500Z
DTEND:20260115T023000Z
X-MICROSOFT-CDO-ALLDAYEVENT:FALSE
SUMMARY:Stargazing at Bill Baggs
DESCRIPTION:Join special guest astronomers Carlos Garcia and Russell Harcha from the Southern Cross Astronomical Society for a memorable evening of stargazing\, complete with expert guidance and advanced equipment for viewing and photographing the night sky.
X-ALT-DESC;FMTTYPE=text/html:<br />\n<br />\nJoin special guest astronomers Carlos Garcia and Russell Harcha from the Southern Cross Astronomical Society for a memorable evening of stargazing\, complete with expert guidance and advanced equipment for viewing and photographing the night sky.
LOCATION:Bill Baggs Cape Florida State Park (near Pavillion D-18)
UID:e.330.23320
SEQUENCE:3
DTSTAMP:20260424T193624Z
URL:https://business.keybiscaynechamber.org/events/details/stargazing-at-bill-baggs-23320
END:VEVENT

END:VCALENDAR
