BEGIN:VCALENDAR
VERSION:2.0
PRODID:-//ChamberMaster//Event Calendar 2.0//EN
METHOD:PUBLISH
X-PUBLISHED-TTL:P3D
REFRESH-INTERVAL:P3D
CALSCALE:GREGORIAN
BEGIN:VEVENT
DTSTART:20110318T000000Z
DTEND:20110318T040000Z
X-MICROSOFT-CDO-ALLDAYEVENT:FALSE
SUMMARY:St Patrick's Day at The Ibis Lounge
DESCRIPTION:Celebrate St Patrick's Day with us\n\n\n\nIrish drink specials\n\n\n\nCome in the Irish spirit and receive a free bottle coozie
X-ALT-DESC;FMTTYPE=text/html:Celebrate St Patrick's Day with us\n<br>\n<br>Irish drink specials\n<br>\n<br>Come in the Irish spirit and receive a free bottle coozie
LOCATION:The Ibis Lounge 200 Crandon Blvd #101 Key Biscayne\, Fl 33149
UID:e.330.3317
SEQUENCE:3
DTSTAMP:20260421T214143Z
URL:https://business.keybiscaynechamber.org/events/details/st-patrick-s-day-at-the-ibis-lounge-03-17-2011-3317
END:VEVENT

END:VCALENDAR
