BEGIN:VCALENDAR
VERSION:2.0
PRODID:-//ChamberMaster//Event Calendar 2.0//EN
METHOD:PUBLISH
X-PUBLISHED-TTL:P3D
REFRESH-INTERVAL:P3D
CALSCALE:GREGORIAN
BEGIN:VEVENT
DTSTART:20121202T140000Z
DTEND:20121202T210000Z
X-MICROSOFT-CDO-ALLDAYEVENT:FALSE
SUMMARY:St. Agnes Christmas Bazaar
DESCRIPTION:Save the Date\n\n	Come Join us for a\n\n	fun filled day of shopping\,\n\n	food from around the world\, kids activities\, a lot of new vendors\,\n\n	and a special visit from Elves on stilts.\n\n	Sell your unwanted gold or precious metal jewelry.\n\n	 \n\n	\n\n	 \n\n	Great opportunity to promote your business\n\n	and take advantage of the Holiday Season!\n\n	If you are interested in participating as a vendor\,\n\n	email us at stagnesbazaar@gmail.com\n\n	\n\n	 Click here to edit...
X-ALT-DESC;FMTTYPE=text/html:<div style="text-align: center\; color: gray">\n	<span style="font-size: 10pt"><span style="color: black"><span style="font-family: times new roman\, serif"><strong>Save the Date</strong></span></span></span><br />\n	<span style="font-size: 10pt"><span style="color: black"><span style="font-family: times new roman\, serif">Come Join us for a</span></span></span></div>\n<div style="text-align: center\; color: gray">\n	<span style="font-size: 10pt"><span style="color: black"><span style="font-family: times new roman\, serif">fun filled day of shopping\,</span></span></span></div>\n<div style="text-align: center\; color: gray">\n	<span style="font-size: 10pt"><span style="color: black"><span style="font-family: times new roman\, serif">food from around the world\, kids activities\, a lot of new vendors\,</span></span></span></div>\n<div style="text-align: center\; color: gray">\n	<span style="font-size: 10pt"><span style="color: black"><span style="font-family: times new roman\, serif">and a special visit from Elves on stilts.</span></span></span></div>\n<div style="text-align: center\; color: gray">\n	<span style="font-size: 10pt"><span style="color: black"><span style="font-family: times new roman\, serif">Sell your unwanted gold or precious metal jewelry.</span></span></span><br />\n	&nbsp\;</div>\n<div style="color: gray">\n	<br />\n	&nbsp\;</div>\n<div style="text-align: center\; color: gray">\n	<span style="color: #000000"><strong><span style="font-family: times new roman\, serif">Great opportunity to promote your business<br />\n	and take advantage of the Holiday Season!<br />\n	If you are interested in participating as a vendor\,<br />\n	email us at </span></strong></span><strong><span style="font-family: times new roman\, serif"><span style="color: #000000"><a href="mailto:stagnesbazaar@gmail.com">stagnesbazaar@gmail.com</a></span></span></strong></div>\n<div style="color: gray">\n	<br />\n	<span style="font-size: 10pt"><span style="color: black">&nbsp\;</span></span>Click here to edit...</div>\n
LOCATION:St. Agnes Academy 122 Harbor Key Biscayne\, FL 33149
UID:e.330.3799
SEQUENCE:3
DTSTAMP:20260420T132535Z
URL:https://business.keybiscaynechamber.org/events/details/st-agnes-christmas-bazaar-12-02-2012-3799
END:VEVENT

END:VCALENDAR
