BEGIN:VCALENDAR
VERSION:2.0
PRODID:-//ChamberMaster//Event Calendar 2.0//EN
METHOD:PUBLISH
X-PUBLISHED-TTL:P3D
REFRESH-INTERVAL:P3D
CALSCALE:GREGORIAN
BEGIN:VEVENT
DTSTART:20110314T140000Z
DTEND:20110318T190000Z
X-MICROSOFT-CDO-ALLDAYEVENT:FALSE
SUMMARY:Spring Break KIDS KITEBOARDING Clinic at Crandon Park
DESCRIPTION:SPRING BREAK KIDS KITEBOARDING with Miamikiteboarding at Crandon Beach.\n\nKiteboarding - Stand up boarding- kayaking - Boat tours- wakeboard ...and bunch of fun stuffs !\n\n\n\nMonday 03/14 to Friday 03/18 - Everyday 10am till 3pm - Age 8 till 14 years-old - A 100% WATERSPORT CAMP \, with Miami's best kitesurfing center in Crandon park ideal beach ...\n\nBeach Club- Snack Bar- Shower- Lockers- Videos games\n\nEarly Drop off / Late pick up available
X-ALT-DESC;FMTTYPE=text/html:SPRING BREAK KIDS KITEBOARDING with Miamikiteboarding at Crandon Beach.<br />\nKiteboarding - Stand up boarding- kayaking - Boat tours- wakeboard ...and bunch of fun stuffs !<br />\n<br />\nMonday 03/14 to Friday 03/18 - Everyday 10am till 3pm - Age 8 till 14 years-old - A 100% WATERSPORT CAMP \, with Miami&#39\;s best kitesurfing center in Crandon park ideal beach ...<br />\nBeach Club- Snack Bar- Shower- Lockers- Videos games<br />\nEarly Drop off / Late pick up available<br />\n
LOCATION:Miamikiteboarding Watersport Center - Crandon Park NORTH BEACH- Key biscayne
UID:e.330.3325
SEQUENCE:3
DTSTAMP:20260421T202231Z
URL:https://business.keybiscaynechamber.org/events/details/spring-break-kids-kiteboarding-clinic-at-crandon-park-03-14-2011-3325
END:VEVENT

END:VCALENDAR
